BEGIN:VCALENDAR
VERSION:2.0
PRODID:-//bradfordlibrary.org//NONSGML kigkonsult.se iCalcreator 2.30.10//
CALSCALE:GREGORIAN
METHOD:PUBLISH
UID:b86cb2db-e137-4162-91cc-58f7b81a9d0a
X-WR-CALDESC:Go beyond New Year's Resolutions to explore other reflective w
 riting techniques\, such as 'More/Less Lists'!  Snacks and cozy beverages 
 will be provided.\n\nThursday\, January 9\, at 5PM
X-WR-RELCALID:58b7ce9c23762c8dbc7fa19d6bbe0a3c
X-WR-TIMEZONE:America/New_York
BEGIN:VTIMEZONE
TZID:America/New_York
BEGIN:STANDARD
TZNAME:EST
DTSTART:20241103T020000
TZOFFSETFROM:-0400
TZOFFSETTO:-0500
RDATE:20251102T020000
END:STANDARD
BEGIN:DAYLIGHT
TZNAME:EDT
DTSTART:20240310T020000
TZOFFSETFROM:-0500
TZOFFSETTO:-0400
RDATE:20250309T020000
RDATE:20260308T020000
END:DAYLIGHT
END:VTIMEZONE
BEGIN:VEVENT
UID:8c5342b3-e7ae-4656-9279-64f8ac74264b
DTSTAMP:20260423T082919Z
DESCRIPTION:Go beyond New Year's Resolutions to explore other reflective wr
 iting techniques\, such as 'More/Less Lists'!  Snacks and cozy beverages w
 ill be provided.\n\nThursday\, January 9\, at 5PM
DTSTART;TZID=America/New_York:20250109T170000
DTEND;TZID=America/New_York:20250109T180000
LOCATION:67 West Washington St.\, Bradford\, PA 16701 US
SUMMARY:New Year's Writing Workshop
END:VEVENT
END:VCALENDAR
