BEGIN:VCALENDAR
VERSION:2.0
PRODID:-//bradfordlibrary.org//NONSGML kigkonsult.se iCalcreator 2.30.10//
CALSCALE:GREGORIAN
METHOD:PUBLISH
UID:369a8993-78c8-4a81-9bdd-2af95b6286d4
X-WR-CALDESC:We are holding an adult fund raiser event.\nIn honor of Americ
 a 250\, we will be making a glass and resin decoration to commemorate this
  historic event!\n\nThis piece is made of wood and is 11'X 8' .  Participa
 nts will use red\, white\, and blue glass to design their piece.   \n\nDat
 e: June 10th\nTime: 6:00-8:00PM\nRSVPs: We can accept 35 RSVPs. We need th
 em by June 3rd at noon.\nCost: $35\n\nAll proceeds from this fund raiser w
 ill benefit the library's programing department.
X-WR-RELCALID:6396843432bbff03ff0a90e88300e02d
X-WR-TIMEZONE:America/New_York
BEGIN:VTIMEZONE
TZID:America/New_York
BEGIN:STANDARD
TZNAME:EST
DTSTART:20251102T020000
TZOFFSETFROM:-0400
TZOFFSETTO:-0500
RDATE:20261101T020000
RDATE:20271107T020000
END:STANDARD
BEGIN:DAYLIGHT
TZNAME:EDT
DTSTART:20260308T020000
TZOFFSETFROM:-0500
TZOFFSETTO:-0400
RDATE:20270314T020000
END:DAYLIGHT
END:VTIMEZONE
BEGIN:VEVENT
UID:09eb5e33-36f0-42a8-821c-e2efa8bdbed8
DTSTAMP:20260423T194323Z
DESCRIPTION:We are holding an adult fund raiser event.\nIn honor of America
  250\, we will be making a glass and resin decoration to commemorate this 
 historic event!\n\nThis piece is made of wood and is 11'X 8' .  Participan
 ts will use red\, white\, and blue glass to design their piece.   \n\nDate
 : June 10th\nTime: 6:00-8:00PM\nRSVPs: We can accept 35 RSVPs. We need the
 m by June 3rd at noon.\nCost: $35\n\nAll proceeds from this fund raiser wi
 ll benefit the library's programing department.
DTSTART;TZID=America/New_York:20260610T180000
DTEND;TZID=America/New_York:20260610T200000
LOCATION:67 W. Washington St. Bradford\, Pennsylvania 16701
SUMMARY:Glass & Resin Art Night
END:VEVENT
END:VCALENDAR
