BEGIN:VCALENDAR
VERSION:2.0
PRODID:-//bradfordlibrary.org//NONSGML kigkonsult.se iCalcreator 2.30.10//
CALSCALE:GREGORIAN
METHOD:PUBLISH
UID:c0203d19-8fbf-4ff0-849e-784b80701941
X-WR-CALDESC:
X-WR-RELCALID:11a21a112428aaab94fcce8f6794cd22
X-WR-TIMEZONE:America/New_York
BEGIN:VTIMEZONE
TZID:America/New_York
BEGIN:STANDARD
TZNAME:EST
DTSTART:20251102T020000
TZOFFSETFROM:-0400
TZOFFSETTO:-0500
RDATE:20261101T020000
END:STANDARD
BEGIN:DAYLIGHT
TZNAME:EDT
DTSTART:20260308T020000
TZOFFSETFROM:-0500
TZOFFSETTO:-0400
RDATE:20270314T020000
END:DAYLIGHT
END:VTIMEZONE
BEGIN:VEVENT
UID:d404520a-29e8-45f4-b19c-274945510073
DTSTAMP:20260423T193845Z
DESCRIPTION:
DTSTART;TZID=America/New_York:20260502T100000
DTEND;TZID=America/New_York:20260502T120000
LOCATION:67 W. Washington St. Bradford\, Pennsylvania 16701
SUMMARY:Kiwanis Craft Days
END:VEVENT
END:VCALENDAR
